BEGIN:VCALENDAR
VERSION:2.0
PRODID:-//Association Bitcoin Lille - ECPv6.9.0//NONSGML v1.0//EN
CALSCALE:GREGORIAN
METHOD:PUBLISH
X-ORIGINAL-URL:https://preprod.bitcoinlille.fr
X-WR-CALDESC:Évènements pour Association Bitcoin Lille
REFRESH-INTERVAL;VALUE=DURATION:PT1H
X-Robots-Tag:noindex
X-PUBLISHED-TTL:PT1H
BEGIN:VTIMEZONE
TZID:Europe/Paris
BEGIN:DAYLIGHT
TZOFFSETFROM:+0100
TZOFFSETTO:+0200
TZNAME:CEST
DTSTART:20240331T010000
END:DAYLIGHT
BEGIN:STANDARD
TZOFFSETFROM:+0200
TZOFFSETTO:+0100
TZNAME:CET
DTSTART:20241027T010000
END:STANDARD
END:VTIMEZONE
BEGIN:VEVENT
DTSTART;TZID=Europe/Paris:20240419T190000
DTEND;TZID=Europe/Paris:20240419T233000
DTSTAMP:20260421T054545
CREATED:20250325T191535Z
LAST-MODIFIED:20250325T191727Z
UID:988-1713553200-1713569400@preprod.bitcoinlille.fr
SUMMARY:Soirée halving (bloc 840 000) - 2025
DESCRIPTION:Lors de certains événements spécifiques à l’histoire de Bitcoin (pizza day\, halving\, etc…)\, les membres de l’association Bitcoin Lille se retrouvent autour dans restaurant ou un bar de la métropole lilloise pour échanger ensemble le temps d’un repas ou d’une soirée 🟠 \nInscriptions: https://www.meetup.com/bitcoinmeetuplille/events/ \nSi vous souhaitez nous contacter entre temps: Telegram – Twitter – Mail – Meetup – Discord \nÀ très vite ! 🍻
URL:https://preprod.bitcoinlille.fr/evenement/halving-bloc-840-000-2025/
CATEGORIES:Rencontre
ATTACH;FMTTYPE=image/png:https://preprod.bitcoinlille.fr/wp-content/uploads/2025/03/Copie-de-White-Travel-Reddit-Banner-1.png
ORGANIZER;CN="Association Bitcoin Lille":MAILTO:bitcoinlille@gmail.com
END:VEVENT
END:VCALENDAR