BEGIN:VCALENDAR
VERSION:2.0
PRODID:-//Association Bitcoin Lille - ECPv6.9.0//NONSGML v1.0//EN
CALSCALE:GREGORIAN
METHOD:PUBLISH
X-ORIGINAL-URL:https://preprod.bitcoinlille.fr
X-WR-CALDESC:Évènements pour Association Bitcoin Lille
REFRESH-INTERVAL;VALUE=DURATION:PT1H
X-Robots-Tag:noindex
X-PUBLISHED-TTL:PT1H
BEGIN:VTIMEZONE
TZID:Europe/Paris
BEGIN:DAYLIGHT
TZOFFSETFROM:+0100
TZOFFSETTO:+0200
TZNAME:CEST
DTSTART:20220327T010000
END:DAYLIGHT
BEGIN:STANDARD
TZOFFSETFROM:+0200
TZOFFSETTO:+0100
TZNAME:CET
DTSTART:20221030T010000
END:STANDARD
END:VTIMEZONE
BEGIN:VEVENT
DTSTART;TZID=Europe/Paris:20220922T190000
DTEND;TZID=Europe/Paris:20220922T233000
DTSTAMP:20260421T001810
CREATED:20250324T171900Z
LAST-MODIFIED:20250325T173212Z
UID:789-1663873200-1663889400@preprod.bitcoinlille.fr
SUMMARY:Meet-up #2 - Septembre 2022
DESCRIPTION:Après de nombreuses rencontres réalisées du 06/02/2014 au 08/01/2018 par le groupe Bitcoin Talks Lille\, suivies deux ans plus tard des confinements COVID\, un petit groupe de bitcoiners a décidé de relancer avec détermination les meet-ups Bitcoin dans la région lilloise.\nDésormais\, tous les premiers mercredis du mois\, vous pourrez ainsi nous retrouver pour le meet-up mensuel du collectif Bitcoin Lille ! 🟠 \nAu programme:\n– à partir de 19h: début du meet-up;\n– dès 19h: échanges libres et ateliers en petits groupes en fonction des envies. \nInscriptions (la date de l’événement est désormais le jeudi 22/09/2022\, pour répondre au plus grand nombre): https://www.meetup.com/bitcoinmeetuplille/events/288433845/ \nSi vous souhaitez nous contacter entre temps: Telegram – Twitter – Mail – Meetup – Discord \nÀ très vite ! 🍻
URL:https://preprod.bitcoinlille.fr/evenement/meet-up-septembre-2022/
LOCATION:Noao Bar\, 30 Rue de Weppes\, Lille\, 59800\, France
CATEGORIES:Meet-up
ATTACH;FMTTYPE=image/png:https://preprod.bitcoinlille.fr/wp-content/uploads/2025/01/Copie-de-White-Travel-Reddit-Banner-2.png
ORGANIZER;CN="Association Bitcoin Lille":MAILTO:bitcoinlille@gmail.com
END:VEVENT
END:VCALENDAR