BEGIN:VCALENDAR
VERSION:2.0
PRODID:-//Association Bitcoin Lille - ECPv6.9.0//NONSGML v1.0//EN
CALSCALE:GREGORIAN
METHOD:PUBLISH
X-ORIGINAL-URL:https://preprod.bitcoinlille.fr
X-WR-CALDESC:Évènements pour Association Bitcoin Lille
REFRESH-INTERVAL;VALUE=DURATION:PT1H
X-Robots-Tag:noindex
X-PUBLISHED-TTL:PT1H
BEGIN:VTIMEZONE
TZID:Europe/Paris
BEGIN:DAYLIGHT
TZOFFSETFROM:+0100
TZOFFSETTO:+0200
TZNAME:CEST
DTSTART:20220327T010000
END:DAYLIGHT
BEGIN:STANDARD
TZOFFSETFROM:+0200
TZOFFSETTO:+0100
TZNAME:CET
DTSTART:20221030T010000
END:STANDARD
END:VTIMEZONE
BEGIN:VEVENT
DTSTART;TZID=Europe/Paris:20221005T190000
DTEND;TZID=Europe/Paris:20221005T233000
DTSTAMP:20260421T002000
CREATED:20250324T173313Z
LAST-MODIFIED:20250325T173217Z
UID:807-1664996400-1665012600@preprod.bitcoinlille.fr
SUMMARY:Meet-up #3 - Octobre 2022
DESCRIPTION:Comme tous les premiers mercredis du mois\, retrouvez-nous pour le meet-up mensuel du collectif Bitcoin Lille ! 🟠 \nAu programme:\n– à partir de 19h: début du meet-up;\n– dès 19h: échanges libres et ateliers en petits groupes en fonction des envies. \nInscriptions: https://www.meetup.com/bitcoinmeetuplille/events/ \nSi vous souhaitez nous contacter entre temps: Telegram – Twitter – Mail – Meetup – Discord \nÀ très vite ! 🍻
URL:https://preprod.bitcoinlille.fr/evenement/meet-up-octobre-2022/
LOCATION:Noao Bar\, 30 Rue de Weppes\, Lille\, 59800\, France
CATEGORIES:Meet-up
ATTACH;FMTTYPE=image/png:https://preprod.bitcoinlille.fr/wp-content/uploads/2025/01/Copie-de-White-Travel-Reddit-Banner-2.png
ORGANIZER;CN="Association Bitcoin Lille":MAILTO:bitcoinlille@gmail.com
END:VEVENT
END:VCALENDAR