BEGIN:VCALENDAR
VERSION:2.0
PRODID:-//Association Bitcoin Lille - ECPv6.9.0//NONSGML v1.0//EN
CALSCALE:GREGORIAN
METHOD:PUBLISH
X-WR-CALNAME:Association Bitcoin Lille
X-ORIGINAL-URL:https://preprod.bitcoinlille.fr
X-WR-CALDESC:Évènements pour Association Bitcoin Lille
REFRESH-INTERVAL;VALUE=DURATION:PT1H
X-Robots-Tag:noindex
X-PUBLISHED-TTL:PT1H
BEGIN:VTIMEZONE
TZID:Europe/Paris
BEGIN:DAYLIGHT
TZOFFSETFROM:+0100
TZOFFSETTO:+0200
TZNAME:CEST
DTSTART:20220327T010000
END:DAYLIGHT
BEGIN:STANDARD
TZOFFSETFROM:+0200
TZOFFSETTO:+0100
TZNAME:CET
DTSTART:20221030T010000
END:STANDARD
END:VTIMEZONE
BEGIN:VEVENT
DTSTART;TZID=Europe/Paris:20221102T190000
DTEND;TZID=Europe/Paris:20221102T233000
DTSTAMP:20260420T225635
CREATED:20250324T173037Z
LAST-MODIFIED:20250325T173222Z
UID:804-1667415600-1667431800@preprod.bitcoinlille.fr
SUMMARY:Meet-up #4 - Novembre 2022
DESCRIPTION:Comme tous les premiers mercredis du mois\, retrouvez-nous pour le meet-up mensuel du collectif Bitcoin Lille ! 🟠 \nAu programme:\n– à partir de 19h: début du meet-up;\n– dès 19h: échanges libres et ateliers en petits groupes en fonction des envies. \nInscriptions: https://www.meetup.com/bitcoinmeetuplille/events/288969125/ \nSi vous souhaitez nous contacter entre temps: Telegram – Twitter – Mail – Meetup – Discord \nÀ très vite ! 🍻
URL:https://preprod.bitcoinlille.fr/evenement/meet-up-novembre-2022/
LOCATION:Le Loc’Ale\, 3 Bd Jean-Baptiste Lebas\, Lille\, 59000\, France
CATEGORIES:Meet-up
ATTACH;FMTTYPE=image/png:https://preprod.bitcoinlille.fr/wp-content/uploads/2025/01/Copie-de-White-Travel-Reddit-Banner-2.png
ORGANIZER;CN="Association Bitcoin Lille":MAILTO:bitcoinlille@gmail.com
END:VEVENT
END:VCALENDAR