BEGIN:VCALENDAR
VERSION:2.0
PRODID:-//Association Bitcoin Lille - ECPv6.9.0//NONSGML v1.0//EN
CALSCALE:GREGORIAN
METHOD:PUBLISH
X-WR-CALNAME:Association Bitcoin Lille
X-ORIGINAL-URL:https://preprod.bitcoinlille.fr
X-WR-CALDESC:Évènements pour Association Bitcoin Lille
REFRESH-INTERVAL;VALUE=DURATION:PT1H
X-Robots-Tag:noindex
X-PUBLISHED-TTL:PT1H
BEGIN:VTIMEZONE
TZID:Europe/Paris
BEGIN:DAYLIGHT
TZOFFSETFROM:+0100
TZOFFSETTO:+0200
TZNAME:CEST
DTSTART:20230326T010000
END:DAYLIGHT
BEGIN:STANDARD
TZOFFSETFROM:+0200
TZOFFSETTO:+0100
TZNAME:CET
DTSTART:20231029T010000
END:STANDARD
END:VTIMEZONE
BEGIN:VEVENT
DTSTART;TZID=Europe/Paris:20230802T190000
DTEND;TZID=Europe/Paris:20230802T233000
DTSTAMP:20260421T165838
CREATED:20250325T171818Z
LAST-MODIFIED:20250325T173407Z
UID:863-1691002800-1691019000@preprod.bitcoinlille.fr
SUMMARY:Meet-up #13 - Août 2023
DESCRIPTION:Comme tous les premiers mercredis du mois\, retrouvez-nous pour le meet-up mensuel de l’association Bitcoin Lille ! 🟠 Nous serons d’ailleurs accompagnés\, ce mois-ci\, des amis bitcoiners liégeois ! \nAu programme:\n– à partir de 19h: début du meet-up;\n– 20h: présentation dont le thème du mois est: « BIP 39 et les phrases mnémoniques » par Lucien (de Bitcoin Liège);\n– dès 21h: échanges libres et ateliers en petits groupes en fonction des envies. \nInscriptions: https://www.meetup.com/bitcoinmeetuplille/events/291443388/ \nSi vous souhaitez nous contacter entre temps: Telegram – Twitter – Mail – Meetup – Discord \nÀ très vite ! 🍻
URL:https://preprod.bitcoinlille.fr/evenement/meet-up-aout-2023/
LOCATION:Noao Bar\, 30 Rue de Weppes\, Lille\, 59800\, France
CATEGORIES:Meet-up
ATTACH;FMTTYPE=image/png:https://preprod.bitcoinlille.fr/wp-content/uploads/2025/01/Copie-de-White-Travel-Reddit-Banner-2.png
ORGANIZER;CN="Association Bitcoin Lille":MAILTO:bitcoinlille@gmail.com
END:VEVENT
BEGIN:VEVENT
DTSTART;TZID=Europe/Paris:20230823T130000
DTEND;TZID=Europe/Paris:20230825T120000
DTSTAMP:20260421T165838
CREATED:20250325T185955Z
LAST-MODIFIED:20250325T185955Z
UID:973-1692795600-1692964800@preprod.bitcoinlille.fr
SUMMARY:Surfin Bitcoin - 2023
DESCRIPTION:Surfin Bitcoin est une conférence française se tenant en Biarritz. Se déroulant sur trois jours (et deux nuits)\, de nombreuses conférences et quelques stands sont proposés\, pour les institutionnels\, réseauteurs et tous ceux intéressés de prêt ou de loin à l’écosystème Bitcoin.\nCette année\, plusieurs membres de l’association Bitcoin Lille participerront à cet évènement. Cela vous tente? Prenez votre place: https://surfinbitcoin.com/ \nSi vous souhaitez nous contacter entre temps: Telegram – Twitter – Mail – Meetup – Discord \nÀ très vite ! 🍻
URL:https://preprod.bitcoinlille.fr/evenement/surfin-bitcoin-2023/
CATEGORIES:Forum
ATTACH;FMTTYPE=image/png:https://preprod.bitcoinlille.fr/wp-content/uploads/2025/03/Copie-de-White-Travel-Reddit-Banner-2.png
END:VEVENT
END:VCALENDAR