BEGIN:VCALENDAR
VERSION:2.0
PRODID:-//Association Bitcoin Lille - ECPv6.9.0//NONSGML v1.0//EN
CALSCALE:GREGORIAN
METHOD:PUBLISH
X-ORIGINAL-URL:https://preprod.bitcoinlille.fr
X-WR-CALDESC:Évènements pour Association Bitcoin Lille
REFRESH-INTERVAL;VALUE=DURATION:PT1H
X-Robots-Tag:noindex
X-PUBLISHED-TTL:PT1H
BEGIN:VTIMEZONE
TZID:Europe/Paris
BEGIN:DAYLIGHT
TZOFFSETFROM:+0100
TZOFFSETTO:+0200
TZNAME:CEST
DTSTART:20240331T010000
END:DAYLIGHT
BEGIN:STANDARD
TZOFFSETFROM:+0200
TZOFFSETTO:+0100
TZNAME:CET
DTSTART:20241027T010000
END:STANDARD
END:VTIMEZONE
BEGIN:VEVENT
DTSTART;TZID=Europe/Paris:20240501T190000
DTEND;TZID=Europe/Paris:20240501T233000
DTSTAMP:20260421T024908
CREATED:20250324T164456Z
LAST-MODIFIED:20250325T173541Z
UID:762-1714590000-1714606200@preprod.bitcoinlille.fr
SUMMARY:Meet-up #22 - Mai 2024
DESCRIPTION:Comme tous les premiers mercredis du mois\, retrouvez-nous pour le meet-up mensuel de l’association Bitcoin Lille ! 🟠 \nAu programme:\n– à partir de 19h: début du meet-up;\n– 20h: présentation dont le thème du mois est: « Sécuriser ses bitcoins » par @ProfEduStream (de Bitcoin Lille – btcmap.org – Plan B Network);\n– dès 21h: échanges libres et ateliers en petits groupes en fonction des envies. \nInscriptions: https://www.meetup.com/bitcoinmeetuplille/events/300025572/ \nSi vous souhaitez nous contacter entre temps: Telegram – Twitter – Mail – Meetup – Discord \nÀ très vite ! 🍻
URL:https://preprod.bitcoinlille.fr/evenement/meet-up-mai-2024/
LOCATION:L’Australian Bar (Café Oz)\, 33 Place Louise de Bettignies\, Lille\, 59800\, France
CATEGORIES:Meet-up
ATTACH;FMTTYPE=image/png:https://preprod.bitcoinlille.fr/wp-content/uploads/2025/01/Copie-de-White-Travel-Reddit-Banner-2.png
ORGANIZER;CN="Association Bitcoin Lille":MAILTO:bitcoinlille@gmail.com
END:VEVENT
BEGIN:VEVENT
DTSTART;TZID=Europe/Paris:20240518T130000
DTEND;TZID=Europe/Paris:20240520T120000
DTSTAMP:20260421T024908
CREATED:20250325T184154Z
LAST-MODIFIED:20250325T184429Z
UID:945-1716037200-1716206400@preprod.bitcoinlille.fr
SUMMARY:Bitcoin Economic Forum - 2024
DESCRIPTION:Le Bitcoin Economic Forum est une conférence française se tenant en Bretagne\, à une heure de Rennes environ. Se déroulant sur trois jours (et deux nuits)\, de nombreuses conférences et « pleb talks » sont proposés\, par et pour les bitcoiners.\nCette année\, plusieurs membres de l’association Bitcoin Lille participerront à cet évènement. Cela vous tente? Prenez votre place: https://breizhbitcoin.com/bitcoin-economic-forum/ \nSi vous souhaitez nous contacter entre temps: Telegram – Twitter – Mail – Meetup – Discord \nÀ très vite ! 🍻
URL:https://preprod.bitcoinlille.fr/evenement/bitcoin-economic-forum-2024/
CATEGORIES:Forum
ATTACH;FMTTYPE=image/png:https://preprod.bitcoinlille.fr/wp-content/uploads/2025/03/Copie-de-White-Travel-Reddit-Banner-2.png
END:VEVENT
BEGIN:VEVENT
DTSTART;TZID=Europe/Paris:20240522T190000
DTEND;TZID=Europe/Paris:20240522T233000
DTSTAMP:20260421T024908
CREATED:20250324T164815Z
LAST-MODIFIED:20250325T173545Z
UID:761-1716404400-1716420600@preprod.bitcoinlille.fr
SUMMARY:Pizza day #2 - 2024
DESCRIPTION:Lors de certains événements spécifiques à l’histoire de Bitcoin (pizza day\, halving\, etc…)\, les membres de l’association Bitcoin Lille se retrouvent autour dans restaurant ou un bar de la métropole lilloise pour échanger ensemble le temps d’un repas ou d’une soirée 🟠 \nInscriptions (obligatoires pour la réservation du restaurant): https://www.meetup.com/bitcoinmeetuplille/events/300425478/ \nSi vous souhaitez nous contacter entre temps: Telegram – Twitter – Mail – Meetup – Discord \nÀ très vite ! 🍻
URL:https://preprod.bitcoinlille.fr/evenement/pizza-day-2024/
CATEGORIES:Rencontre
ATTACH;FMTTYPE=image/png:https://preprod.bitcoinlille.fr/wp-content/uploads/2025/03/Copie-de-White-Travel-Reddit-Banner-1.png
ORGANIZER;CN="Association Bitcoin Lille":MAILTO:bitcoinlille@gmail.com
END:VEVENT
END:VCALENDAR